BEGIN:VCALENDAR
VERSION:2.0
PRODID:-//Hockey Club Konstanz - ECPv5.9.1//NONSGML v1.0//EN
CALSCALE:GREGORIAN
METHOD:PUBLISH
X-WR-CALNAME:Hockey Club Konstanz
X-ORIGINAL-URL:https://hckamsee.de
X-WR-CALDESC:Veranstaltungen für Hockey Club Konstanz
BEGIN:VTIMEZONE
TZID:Europe/Berlin
BEGIN:DAYLIGHT
TZOFFSETFROM:+0100
TZOFFSETTO:+0200
TZNAME:CEST
DTSTART:20220327T010000
END:DAYLIGHT
BEGIN:STANDARD
TZOFFSETFROM:+0200
TZOFFSETTO:+0100
TZNAME:CET
DTSTART:20221030T010000
END:STANDARD
END:VTIMEZONE
BEGIN:VEVENT
DTSTART;TZID=Europe/Berlin:20220326T100000
DTEND;TZID=Europe/Berlin:20220326T170000
DTSTAMP:20260425T001039
CREATED:20220222T191147Z
LAST-MODIFIED:20220222T191307Z
UID:1798-1648288800-1648314000@hckamsee.de
SUMMARY:Der große Herbstputz
DESCRIPTION:
URL:https://hckamsee.de/event/der-grosse-herbstputz/
LOCATION:Seehalde 15\, Seehalde 15\, Konstanz
CATEGORIES:Sonstiges
ORGANIZER;CN="HC%20Konstanz":MAILTO:info@hckamsee.de
END:VEVENT
END:VCALENDAR