BEGIN:VCALENDAR
VERSION:2.0
PRODID:-//Hockey Club Konstanz - ECPv5.9.1//NONSGML v1.0//EN
CALSCALE:GREGORIAN
METHOD:PUBLISH
X-WR-CALNAME:Hockey Club Konstanz
X-ORIGINAL-URL:https://hckamsee.de
X-WR-CALDESC:Veranstaltungen für Hockey Club Konstanz
BEGIN:VTIMEZONE
TZID:Europe/Berlin
BEGIN:DAYLIGHT
TZOFFSETFROM:+0100
TZOFFSETTO:+0200
TZNAME:CEST
DTSTART:20210328T010000
END:DAYLIGHT
BEGIN:STANDARD
TZOFFSETFROM:+0200
TZOFFSETTO:+0100
TZNAME:CET
DTSTART:20211031T010000
END:STANDARD
END:VTIMEZONE
BEGIN:VEVENT
DTSTART;TZID=Europe/Berlin:20211127T153000
DTEND;TZID=Europe/Berlin:20211127T173000
DTSTAMP:20260425T212042
CREATED:20211111T104309Z
LAST-MODIFIED:20211111T104309Z
UID:1590-1638027000-1638034200@hckamsee.de
SUMMARY:FT Freiburg 2 VS HCK
DESCRIPTION:
URL:https://hckamsee.de/event/ft-freiburg-2-vs-hck/
CATEGORIES:Spieltag
END:VEVENT
END:VCALENDAR