BEGIN:VCALENDAR
VERSION:2.0
PRODID:-//Hockey Club Konstanz - ECPv5.9.1//NONSGML v1.0//EN
CALSCALE:GREGORIAN
METHOD:PUBLISH
X-WR-CALNAME:Hockey Club Konstanz
X-ORIGINAL-URL:https://hckamsee.de
X-WR-CALDESC:Veranstaltungen für Hockey Club Konstanz
BEGIN:VTIMEZONE
TZID:Europe/Berlin
BEGIN:DAYLIGHT
TZOFFSETFROM:+0100
TZOFFSETTO:+0200
TZNAME:CEST
DTSTART:20220327T010000
END:DAYLIGHT
BEGIN:STANDARD
TZOFFSETFROM:+0200
TZOFFSETTO:+0100
TZNAME:CET
DTSTART:20221030T010000
END:STANDARD
END:VTIMEZONE
BEGIN:VEVENT
DTSTART;TZID=Europe/Berlin:20220220T144000
DTEND;TZID=Europe/Berlin:20220220T164000
DTSTAMP:20260425T034041
CREATED:20211207T120358Z
LAST-MODIFIED:20211207T120358Z
UID:1723-1645368000-1645375200@hckamsee.de
SUMMARY:HCK VS TSV Mannheim 4
DESCRIPTION:
URL:https://hckamsee.de/event/hck-vs-tsv-mannheim-4-4/
CATEGORIES:Spieltag
END:VEVENT
END:VCALENDAR