BEGIN:VCALENDAR
VERSION:2.0
PRODID:-//Hockey Club Konstanz - ECPv5.9.1//NONSGML v1.0//EN
CALSCALE:GREGORIAN
METHOD:PUBLISH
X-WR-CALNAME:Hockey Club Konstanz
X-ORIGINAL-URL:https://hckamsee.de
X-WR-CALDESC:Veranstaltungen für Hockey Club Konstanz
BEGIN:VTIMEZONE
TZID:Europe/Berlin
BEGIN:DAYLIGHT
TZOFFSETFROM:+0100
TZOFFSETTO:+0200
TZNAME:CEST
DTSTART:20220327T010000
END:DAYLIGHT
BEGIN:STANDARD
TZOFFSETFROM:+0200
TZOFFSETTO:+0100
TZNAME:CET
DTSTART:20221030T010000
END:STANDARD
END:VTIMEZONE
BEGIN:VEVENT
DTSTART;TZID=Europe/Berlin:20220626T160000
DTEND;TZID=Europe/Berlin:20220626T180000
DTSTAMP:20260425T151136
CREATED:20210804T132242Z
LAST-MODIFIED:20220306T122804Z
UID:991-1656259200-1656266400@hckamsee.de
SUMMARY:HTC Stgt. Kickers 3 VS HCK
DESCRIPTION:
URL:https://hckamsee.de/event/htc-stgt-kickers-3-vs-hck/
CATEGORIES:Spieltag
END:VEVENT
END:VCALENDAR