BEGIN:VCALENDAR
VERSION:2.0
PRODID:-//Hockey Club Konstanz - ECPv5.9.1//NONSGML v1.0//EN
CALSCALE:GREGORIAN
METHOD:PUBLISH
X-WR-CALNAME:Hockey Club Konstanz
X-ORIGINAL-URL:https://hckamsee.de
X-WR-CALDESC:Veranstaltungen für Hockey Club Konstanz
BEGIN:VTIMEZONE
TZID:Europe/Berlin
BEGIN:DAYLIGHT
TZOFFSETFROM:+0100
TZOFFSETTO:+0200
TZNAME:CEST
DTSTART:20240331T010000
END:DAYLIGHT
BEGIN:STANDARD
TZOFFSETFROM:+0200
TZOFFSETTO:+0100
TZNAME:CET
DTSTART:20241027T010000
END:STANDARD
END:VTIMEZONE
BEGIN:VEVENT
DTSTART;TZID=Europe/Berlin:20240609T130000
DTEND;TZID=Europe/Berlin:20240609T150000
DTSTAMP:20260423T105843
CREATED:20221017T200117Z
LAST-MODIFIED:20230928T083605Z
UID:2061-1717938000-1717945200@hckamsee.de
SUMMARY:SG HCK/HCV - Karlsruher TV
DESCRIPTION:
URL:https://hckamsee.de/event/sg-hck-hcv-hc-tuebingen/
CATEGORIES:Spieltag
END:VEVENT
END:VCALENDAR