BEGIN:VCALENDAR
VERSION:2.0
PRODID:-//Hockey Club Konstanz - ECPv5.9.1//NONSGML v1.0//EN
CALSCALE:GREGORIAN
METHOD:PUBLISH
X-WR-CALNAME:Hockey Club Konstanz
X-ORIGINAL-URL:https://hckamsee.de
X-WR-CALDESC:Veranstaltungen für Hockey Club Konstanz
BEGIN:VTIMEZONE
TZID:Europe/Berlin
BEGIN:DAYLIGHT
TZOFFSETFROM:+0100
TZOFFSETTO:+0200
TZNAME:CEST
DTSTART:20220327T010000
END:DAYLIGHT
BEGIN:STANDARD
TZOFFSETFROM:+0200
TZOFFSETTO:+0100
TZNAME:CET
DTSTART:20221030T010000
END:STANDARD
END:VTIMEZONE
BEGIN:VEVENT
DTSTART;TZID=Europe/Berlin:20220710T110000
DTEND;TZID=Europe/Berlin:20220710T130000
DTSTAMP:20260425T231007
CREATED:20220306T123807Z
LAST-MODIFIED:20220306T124243Z
UID:1812-1657450800-1657458000@hckamsee.de
SUMMARY:SG Villingen/Konstanz - FT 1844 Freiburg 2
DESCRIPTION:
URL:https://hckamsee.de/event/sg-villingen-konstanz-ft-1844-freiburg-2/
LOCATION:Konstanz\, Konstanz\, Baden Württemberg\, Deutschland
CATEGORIES:Spieltag
ORGANIZER;CN="HC%20Konstanz":MAILTO:info@hckamsee.de
END:VEVENT
END:VCALENDAR