BEGIN:VCALENDAR
VERSION:2.0
PRODID:-//Hockey Club Konstanz - ECPv5.9.1//NONSGML v1.0//EN
CALSCALE:GREGORIAN
METHOD:PUBLISH
X-WR-CALNAME:Hockey Club Konstanz
X-ORIGINAL-URL:https://hckamsee.de
X-WR-CALDESC:Veranstaltungen für Hockey Club Konstanz
BEGIN:VTIMEZONE
TZID:Europe/Berlin
BEGIN:DAYLIGHT
TZOFFSETFROM:+0100
TZOFFSETTO:+0200
TZNAME:CEST
DTSTART:20220327T010000
END:DAYLIGHT
BEGIN:STANDARD
TZOFFSETFROM:+0200
TZOFFSETTO:+0100
TZNAME:CET
DTSTART:20221030T010000
END:STANDARD
END:VTIMEZONE
BEGIN:VEVENT
DTSTART;TZID=Europe/Berlin:20221211T141000
DTEND;TZID=Europe/Berlin:20221211T161000
DTSTAMP:20260425T153258
CREATED:20221019T070845Z
LAST-MODIFIED:20221019T070845Z
UID:2115-1670767800-1670775000@hckamsee.de
SUMMARY:VfB Stuttgart 2 VS HCK
DESCRIPTION:
URL:https://hckamsee.de/event/vfb-stuttgart-2-vs-hck-2/
CATEGORIES:Spieltag
END:VEVENT
END:VCALENDAR