BEGIN:VCALENDAR
VERSION:2.0
PRODID:-//Hockey Club Konstanz - ECPv5.9.1//NONSGML v1.0//EN
CALSCALE:GREGORIAN
METHOD:PUBLISH
X-WR-CALNAME:Hockey Club Konstanz
X-ORIGINAL-URL:https://hckamsee.de
X-WR-CALDESC:Events for Hockey Club Konstanz
BEGIN:VTIMEZONE
TZID:Europe/Berlin
BEGIN:DAYLIGHT
TZOFFSETFROM:+0100
TZOFFSETTO:+0200
TZNAME:CEST
DTSTART:20240331T010000
END:DAYLIGHT
BEGIN:STANDARD
TZOFFSETFROM:+0200
TZOFFSETTO:+0100
TZNAME:CET
DTSTART:20241027T010000
END:STANDARD
END:VTIMEZONE
BEGIN:VEVENT
DTSTART;TZID=Europe/Berlin:20240413T140000
DTEND;TZID=Europe/Berlin:20240413T144000
DTSTAMP:20260425T172712
CREATED:20221019T070207Z
LAST-MODIFIED:20240320T105532Z
UID:2083-1713016800-1713019200@hckamsee.de
SUMMARY:Ausgabe der Sondertrikots 100 Jahre
DESCRIPTION:die offizielle Ausgabe unserer Sondertrikots für diese Saison an alle Aktiven
URL:https://hckamsee.de/event/ausgabe-der-sondertrikots-100-jahre/
LOCATION:HCK Clubhaus\, Seehalde 15\, 78464 Konstanz\, Germany
CATEGORIES:Sonstiges
END:VEVENT
BEGIN:VEVENT
DTSTART;TZID=Europe/Berlin:20240413T144500
DTEND;TZID=Europe/Berlin:20240413T180000
DTSTAMP:20260425T172712
CREATED:20221006T120244Z
LAST-MODIFIED:20240320T105654Z
UID:2010-1713019500-1713031200@hckamsee.de
SUMMARY:Clubturnier erster Einsatz der Sondertrikots
DESCRIPTION:„Anschwitzen“ des neuen Sondertrikots
URL:https://hckamsee.de/event/clubturnier-erster-einsatz-der-sondertrikots/
LOCATION:Seehalde 15\, Seehalde 15\, Konstanz
CATEGORIES:Sonstiges
END:VEVENT
BEGIN:VEVENT
DTSTART;TZID=Europe/Berlin:20240419T183000
DTEND;TZID=Europe/Berlin:20240419T203000
DTSTAMP:20260425T172712
CREATED:20221006T120244Z
LAST-MODIFIED:20240320T105616Z
UID:2013-1713551400-1713558600@hckamsee.de
SUMMARY:Jahreshauptversammlung-Mitgliederversammlung
DESCRIPTION:
URL:https://hckamsee.de/event/jahreshauptversammlung-mitgliederversammlung/
LOCATION:HCK Clubhaus\, Seehalde 15\, 78464 Konstanz\, Germany
CATEGORIES:Sonstiges
END:VEVENT
BEGIN:VEVENT
DTSTART;TZID=Europe/Berlin:20240427T150000
DTEND;TZID=Europe/Berlin:20240427T170000
DTSTAMP:20260425T172712
CREATED:20221017T200159Z
LAST-MODIFIED:20230920T075725Z
UID:2063-1714230000-1714237200@hckamsee.de
SUMMARY:SG HCK/HCV - SG HSB/HCA
DESCRIPTION:
URL:https://hckamsee.de/event/sg-hck-hcv-ft-1844-freiburg-2/
CATEGORIES:Spieltag
END:VEVENT
END:VCALENDAR