BEGIN:VCALENDAR
VERSION:2.0
PRODID:-//Hockey Club Konstanz - ECPv5.9.1//NONSGML v1.0//EN
CALSCALE:GREGORIAN
METHOD:PUBLISH
X-WR-CALNAME:Hockey Club Konstanz
X-ORIGINAL-URL:https://hckamsee.de
X-WR-CALDESC:Events for Hockey Club Konstanz
BEGIN:VTIMEZONE
TZID:Europe/Berlin
BEGIN:DAYLIGHT
TZOFFSETFROM:+0100
TZOFFSETTO:+0200
TZNAME:CEST
DTSTART:20260329T010000
END:DAYLIGHT
BEGIN:STANDARD
TZOFFSETFROM:+0200
TZOFFSETTO:+0100
TZNAME:CET
DTSTART:20261025T010000
END:STANDARD
END:VTIMEZONE
BEGIN:VEVENT
DTSTART;TZID=Europe/Berlin:20260613T180000
DTEND;TZID=Europe/Berlin:20260613T193000
DTSTAMP:20260422T110830
CREATED:20260408T153445Z
LAST-MODIFIED:20260408T153722Z
UID:2817-1781373600-1781379000@hckamsee.de
SUMMARY:Herren HC Ludwigsburg vs. HC Konstanz (Auswärtsspiel)
DESCRIPTION:Die Herren-Mannschaft des HC Konstanz fährt zum Auswärtsspiel gegen die Herren des HC Ludwigsburg 2. Wir drücken wie immer die Daumen und freuen uns auf ein faires und sportlich erfolgreiches Spiel.
URL:https://hckamsee.de/event/herren-hc-ludwigsburg-vs-hc-konstanz-auswaertsspiel/
LOCATION:HC Ludwigsburg Sportanlage\, Fuchshofstraße 66\, 71638 Ludwigsburg\, Germany
CATEGORIES:Auswärtsspiel
END:VEVENT
BEGIN:VEVENT
DTSTART;TZID=Europe/Berlin:20260620T140000
DTEND;TZID=Europe/Berlin:20260620T153000
DTSTAMP:20260422T110830
CREATED:20260408T153156Z
LAST-MODIFIED:20260408T153313Z
UID:2814-1781964000-1781969400@hckamsee.de
SUMMARY:Herren HC Konstanz vs. TSG Bruchsal (Heimspieltag)
DESCRIPTION:Die Herren-Mannschaft des HC Konstanz begrüßt das Team der TSG Bruchsal zum Heimspieltag in der Oberliga. Wir freuen uns wie immer alle Hockey-Interessierten auf unserer Platzanlage am See begrüßen zu dürfen.
URL:https://hckamsee.de/event/herren-hc-konstanz-vs-tsg-bruchsal-heimspieltag-2/
LOCATION:HCK Hockeyplatz\, Seehalde 15\, 78464 Konstanz\, Germany
CATEGORIES:Spieltag
ORGANIZER;CN="HC%20Konstanz":MAILTO:info@hckamsee.de
END:VEVENT
END:VCALENDAR